BEGIN:VCALENDAR
CALSCALE:GREGORIAN
X-WR-TIMEZONE;VALUE=TEXT:GMT
PRODID:PEAK Corporation - piCal -
X-WR-CALNAME;VALUE=TEXT:Syabell（しゃべ〜る）
VERSION:2.0
METHOD:PUBLISH
BEGIN:VTIMEZONE
TZID:GMT
BEGIN:STANDARD
DTSTART:19390101T000000
TZOFFSETFROM:+0000
TZOFFSETTO:+0000
TZNAME:GMT
END:STANDARD
END:VTIMEZONE
BEGIN:VEVENT
DTSTART:20170526T010000Z
DTEND:20170526T030000Z
LOCATION:子ども未来センター
TRANSP:OPAQUE
SEQUENCE:0
UID:pical060-5feb0b1fb7b11040f4e763e0557f9c04
DTSTAMP:20170524T010332Z
CATEGORIES:
DESCRIPTION:〜子育て仲間のしゃべり場〜\n参加無料\n0〜5歳の子どもをお持ちのお父さん・お母さん(定員10名)\n
SUMMARY:Syabell（しゃべ〜る）
PRIORITY:0
CLASS:PUBLIC
END:VEVENT
END:VCALENDAR
