BEGIN:VCALENDAR
CALSCALE:GREGORIAN
X-WR-TIMEZONE;VALUE=TEXT:GMT
PRODID:PEAK Corporation - piCal -
X-WR-CALNAME;VALUE=TEXT:年末交通安全運動期間〜20日
VERSION:2.0
METHOD:PUBLISH
BEGIN:VTIMEZONE
TZID:GMT
BEGIN:STANDARD
DTSTART:19390101T000000
TZOFFSETFROM:+0000
TZOFFSETTO:+0000
TZNAME:GMT
END:STANDARD
END:VTIMEZONE
BEGIN:VEVENT
DTSTART;VALUE=DATE:20161211
DTEND;VALUE=DATE:20161212
LOCATION:
TRANSP:OPAQUE
SEQUENCE:1
UID:pical060-8d1868ecf7a7256923f04e168cbfdde1
DTSTAMP:20161126T041721Z
CATEGORIES:
DESCRIPTION:急がずに マナーとゆとりで 交通安全\nこの時期は路面の凍結や降雪による視界不良が起こりやすいため、ドライバーの皆さんは冬道に配慮した運転を心掛けましょう。\n　また、シートベルト、チャイルドシートは危険から身を守る命綱です。全ての座席で正しく着用しましょう。\n&#9654;運動期間　12月11日（日）〜20日（火）
SUMMARY:年末交通安全運動期間〜20日
RRULE:FREQ=DAILY;INTERVAL=1;UNTIL=20161220T000000Z;WKST=SU
PRIORITY:0
CLASS:PUBLIC
END:VEVENT
END:VCALENDAR
