BEGIN:VCALENDAR
CALSCALE:GREGORIAN
X-WR-TIMEZONE;VALUE=TEXT:GMT
PRODID:PEAK Corporation - piCal -
X-WR-CALNAME;VALUE=TEXT:鹿角市高齢者等見守り活動に関する協定書締結式
VERSION:2.0
METHOD:PUBLISH
BEGIN:VTIMEZONE
TZID:GMT
BEGIN:STANDARD
DTSTART:19390101T000000
TZOFFSETFROM:+0000
TZOFFSETTO:+0000
TZNAME:GMT
END:STANDARD
END:VTIMEZONE
BEGIN:VEVENT
DTSTART:20120319T003000Z
DTEND:20120319T023000Z
LOCATION:鹿角市役所
TRANSP:OPAQUE
SEQUENCE:0
UID:pical060-1ec584412c0181e46096347e1a1e6a31
DTSTAMP:20120301T081912Z
CATEGORIES:
DESCRIPTION:
SUMMARY:鹿角市高齢者等見守り活動に関する協定書締結式
PRIORITY:0
CLASS:PUBLIC
END:VEVENT
END:VCALENDAR
