BEGIN:VCALENDAR
CALSCALE:GREGORIAN
X-WR-TIMEZONE;VALUE=TEXT:GMT
PRODID:PEAK Corporation - piCal -
X-WR-CALNAME;VALUE=TEXT:修了式（分校、北小、尾小、花小、平小、十小、大小、八小、一中、十中）
VERSION:2.0
METHOD:PUBLISH
BEGIN:VTIMEZONE
TZID:GMT
BEGIN:STANDARD
DTSTART:19390101T000000
TZOFFSETFROM:+0000
TZOFFSETTO:+0000
TZNAME:GMT
END:STANDARD
END:VTIMEZONE
BEGIN:VEVENT
DTSTART:20120321T000000Z
DTEND:20120321T030000Z
LOCATION:各小、中学校
TRANSP:OPAQUE
SEQUENCE:2
UID:pical060-240dde30b94dce5e358a8c6367d890a0
DTSTAMP:20120228T231450Z
CATEGORIES:
DESCRIPTION:
SUMMARY:修了式（分校、北小、尾小、花小、平小、十小、大小、八小、一中、十中）
PRIORITY:0
CLASS:PUBLIC
END:VEVENT
END:VCALENDAR
