BEGIN:VCALENDAR
CALSCALE:GREGORIAN
X-WR-TIMEZONE;VALUE=TEXT:GMT
PRODID:PEAK Corporation - piCal -
X-WR-CALNAME;VALUE=TEXT:児童センター大感謝祭 「のびのび★ WAIWAI ★ありがとうの会」
VERSION:2.0
METHOD:PUBLISH
BEGIN:VTIMEZONE
TZID:GMT
BEGIN:STANDARD
DTSTART:19390101T000000
TZOFFSETFROM:+0000
TZOFFSETTO:+0000
TZNAME:GMT
END:STANDARD
END:VTIMEZONE
BEGIN:VEVENT
DTSTART;VALUE=DATE:20120311
DTEND;VALUE=DATE:20120312
LOCATION:鹿角市児童センター
TRANSP:OPAQUE
SEQUENCE:0
UID:pical060-a8d676970acb32068e20ce695d872f1e
DTSTAMP:20120227T144449Z
CATEGORIES:
DESCRIPTION:1 年間ありがとう！の気持ちをこめて、児童センター感謝祭に子ども\nたちを招待！チクチク、チョキチョキ、ペタペタ♪楽しい手作りコーナーを用意して待っています。お友達と一緒に遊びにきてね☆\n&#9702;参加費：コーナーごとに数十円の料金。小銭を持ってきてください。／&#9702;対象者：市内の小学生まで（小学生未満は保護者同伴）の子どもたち＊申込不要 \n＊開始時刻など詳細はお問い合わせください
SUMMARY:児童センター大感謝祭 「のびのび★ WAIWAI ★ありがとうの会」
PRIORITY:0
CLASS:PUBLIC
END:VEVENT
END:VCALENDAR
