BEGIN:VCALENDAR
CALSCALE:GREGORIAN
X-WR-TIMEZONE;VALUE=TEXT:GMT
PRODID:PEAK Corporation - piCal -
X-WR-CALNAME;VALUE=TEXT:ミサンガ作り講習会・歯の健康講話
VERSION:2.0
METHOD:PUBLISH
BEGIN:VTIMEZONE
TZID:GMT
BEGIN:STANDARD
DTSTART:19390101T000000
TZOFFSETFROM:+0000
TZOFFSETTO:+0000
TZNAME:GMT
END:STANDARD
END:VTIMEZONE
BEGIN:VEVENT
DTSTART:20120123T040000Z
DTEND:20120123T070000Z
LOCATION:ＪＡ会館
TRANSP:OPAQUE
SEQUENCE:0
UID:pical060-9389495053922e27211ef6e25041c459
DTSTAMP:20120104T050303Z
CATEGORIES:
DESCRIPTION:
SUMMARY:ミサンガ作り講習会・歯の健康講話
PRIORITY:0
CLASS:PUBLIC
END:VEVENT
END:VCALENDAR
