BEGIN:VCALENDAR
CALSCALE:GREGORIAN
X-WR-TIMEZONE;VALUE=TEXT:GMT
PRODID:PEAK Corporation - piCal -
X-WR-CALNAME;VALUE=TEXT:水晶山スキー場開き
VERSION:2.0
METHOD:PUBLISH
BEGIN:VTIMEZONE
TZID:GMT
BEGIN:STANDARD
DTSTART:19390101T000000
TZOFFSETFROM:+0000
TZOFFSETTO:+0000
TZNAME:GMT
END:STANDARD
END:VTIMEZONE
BEGIN:VEVENT
DTSTART:20111216T013000Z
DTEND:20111216T090000Z
LOCATION:水晶山スキー場
TRANSP:OPAQUE
SEQUENCE:0
UID:pical060-f80fc9512a6b2ad4f651af6979d2f1a1
DTSTAMP:20111202T064341Z
CATEGORIES:
DESCRIPTION:
SUMMARY:水晶山スキー場開き
PRIORITY:0
CLASS:PUBLIC
END:VEVENT
END:VCALENDAR
