BEGIN:VCALENDAR
CALSCALE:GREGORIAN
X-WR-TIMEZONE;VALUE=TEXT:GMT
PRODID:PEAK Corporation - piCal -
X-WR-CALNAME;VALUE=TEXT:小坂高競歩大会
VERSION:2.0
METHOD:PUBLISH
BEGIN:VTIMEZONE
TZID:GMT
BEGIN:STANDARD
DTSTART:19390101T000000
TZOFFSETFROM:+0000
TZOFFSETTO:+0000
TZNAME:GMT
END:STANDARD
END:VTIMEZONE
BEGIN:VEVENT
DTSTART:20110923T010000Z
DTEND:20110923T080000Z
LOCATION:
TRANSP:OPAQUE
SEQUENCE:0
UID:pical060-2a49def52290561d396a42eb26e71cf1
DTSTAMP:20110902T062140Z
CATEGORIES:
DESCRIPTION:スタート\n　男子?大川岱\n　女子?発荷峠
SUMMARY:小坂高競歩大会
PRIORITY:0
CLASS:PUBLIC
END:VEVENT
END:VCALENDAR
