BEGIN:VCALENDAR
CALSCALE:GREGORIAN
X-WR-TIMEZONE;VALUE=TEXT:GMT
PRODID:PEAK Corporation - piCal -
X-WR-CALNAME;VALUE=TEXT:鹿角ふるさと大太鼓大響演会
VERSION:2.0
METHOD:PUBLISH
BEGIN:VTIMEZONE
TZID:GMT
BEGIN:STANDARD
DTSTART:19390101T000000
TZOFFSETFROM:+0000
TZOFFSETTO:+0000
TZNAME:GMT
END:STANDARD
END:VTIMEZONE
BEGIN:VEVENT
DTSTART:20110828T020000Z
DTEND:20110828T080000Z
LOCATION:鹿角観光ふるさと館あんとらあ
TRANSP:OPAQUE
SEQUENCE:0
UID:pical060-eb3c25e584f4d8d32b67d7f647246efa
DTSTAMP:20110802T060525Z
CATEGORIES:
DESCRIPTION:
SUMMARY:鹿角ふるさと大太鼓大響演会
PRIORITY:0
CLASS:PUBLIC
END:VEVENT
END:VCALENDAR
