BEGIN:VCALENDAR
CALSCALE:GREGORIAN
X-WR-TIMEZONE;VALUE=TEXT:GMT
PRODID:PEAK Corporation - piCal -
X-WR-CALNAME;VALUE=TEXT:サタちびっ 第二回　白熱実験教室
VERSION:2.0
METHOD:PUBLISH
BEGIN:VTIMEZONE
TZID:GMT
BEGIN:STANDARD
DTSTART:19390101T000000
TZOFFSETFROM:+0000
TZOFFSETTO:+0000
TZNAME:GMT
END:STANDARD
END:VTIMEZONE
BEGIN:VEVENT
DTSTART:20110521T000000Z
DTEND:20110521T080000Z
LOCATION:花輪市民センター
TRANSP:OPAQUE
SEQUENCE:1
UID:pical060-418dd098f1ad20cea6bf4c7429f37d0e
DTSTAMP:20110427T061234Z
CATEGORIES:
DESCRIPTION:今年二回目のサタちびっは実験教室\n身近なあの魚○○○の解剖とジャンボシャボン玉作りの二本立てとなっております\n詳しくは花輪市民センター窓口のチラシをご参照ください
SUMMARY:サタちびっ 第二回　白熱実験教室
PRIORITY:0
CLASS:PUBLIC
END:VEVENT
END:VCALENDAR
