BEGIN:VCALENDAR
CALSCALE:GREGORIAN
X-WR-TIMEZONE;VALUE=TEXT:GMT
PRODID:PEAK Corporation - piCal -
X-WR-CALNAME;VALUE=TEXT:おらほの自治会
VERSION:2.0
METHOD:PUBLISH
BEGIN:VTIMEZONE
TZID:GMT
BEGIN:STANDARD
DTSTART:19390101T000000
TZOFFSETFROM:+0000
TZOFFSETTO:+0000
TZNAME:GMT
END:STANDARD
END:VTIMEZONE
BEGIN:VEVENT
DTSTART:20110124T093000Z
DTEND:20110124T120000Z
LOCATION:上町自治会館
TRANSP:OPAQUE
SEQUENCE:0
UID:pical060-6f761e098cfb1b6d7711c7f2d05124f6
DTSTAMP:20110105T070635Z
CATEGORIES:
DESCRIPTION:
SUMMARY:おらほの自治会
PRIORITY:0
CLASS:PUBLIC
END:VEVENT
END:VCALENDAR
