BEGIN:VCALENDAR
CALSCALE:GREGORIAN
X-WR-TIMEZONE;VALUE=TEXT:GMT
PRODID:PEAK Corporation - piCal -
X-WR-CALNAME;VALUE=TEXT:年末調整関係説明会
VERSION:2.0
METHOD:PUBLISH
BEGIN:VTIMEZONE
TZID:GMT
BEGIN:STANDARD
DTSTART:19390101T000000
TZOFFSETFROM:+0000
TZOFFSETTO:+0000
TZNAME:GMT
END:STANDARD
END:VTIMEZONE
BEGIN:VEVENT
DTSTART:20101119T010000Z
DTEND:20101119T030000Z
LOCATION:大館市民文化会館
TRANSP:OPAQUE
SEQUENCE:1
UID:pical060-39159bb853c7e2a9c5bb313e2ea4019f
DTSTAMP:20101104T114025Z
CATEGORIES:
DESCRIPTION:
SUMMARY:年末調整関係説明会
PRIORITY:0
CLASS:PUBLIC
END:VEVENT
END:VCALENDAR
