BEGIN:VCALENDAR
CALSCALE:GREGORIAN
X-WR-TIMEZONE;VALUE=TEXT:GMT
PRODID:PEAK Corporation - piCal -
X-WR-CALNAME;VALUE=TEXT:健康寿大学　歴史文化講演会
VERSION:2.0
METHOD:PUBLISH
BEGIN:VTIMEZONE
TZID:GMT
BEGIN:STANDARD
DTSTART:19390101T000000
TZOFFSETFROM:+0000
TZOFFSETTO:+0000
TZNAME:GMT
END:STANDARD
END:VTIMEZONE
BEGIN:VEVENT
DTSTART:20101118T043000Z
DTEND:20101118T060000Z
LOCATION:花輪市民センター
TRANSP:OPAQUE
SEQUENCE:2
UID:pical060-90ae33ea4e4b7c1741350114b23def0d
DTSTAMP:20100617T072032Z
CATEGORIES:
DESCRIPTION:演題「鹿角と岩手の歴史的かかわり（仮）」
SUMMARY:健康寿大学　歴史文化講演会
PRIORITY:0
CLASS:PUBLIC
END:VEVENT
END:VCALENDAR
